BEGIN:VCALENDAR
VERSION:2.0
PRODID:-//Musikverein Unterwaldhausen - ECPv6.3.7//NONSGML v1.0//EN
CALSCALE:GREGORIAN
METHOD:PUBLISH
X-WR-CALNAME:Musikverein Unterwaldhausen
X-ORIGINAL-URL:https://musikverein-unterwaldhausen.de
X-WR-CALDESC:Veranstaltungen für Musikverein Unterwaldhausen
REFRESH-INTERVAL;VALUE=DURATION:PT1H
X-Robots-Tag:noindex
X-PUBLISHED-TTL:PT1H
BEGIN:VTIMEZONE
TZID:Europe/Berlin
BEGIN:DAYLIGHT
TZOFFSETFROM:+0100
TZOFFSETTO:+0200
TZNAME:CEST
DTSTART:20260329T010000
END:DAYLIGHT
BEGIN:STANDARD
TZOFFSETFROM:+0200
TZOFFSETTO:+0100
TZNAME:CET
DTSTART:20261025T010000
END:STANDARD
END:VTIMEZONE
BEGIN:VEVENT
DTSTART;VALUE=DATE:20260328
DTEND;VALUE=DATE:20260329
DTSTAMP:20260421T014919
CREATED:20251210T203803Z
LAST-MODIFIED:20260108T170104Z
UID:682-1774656000-1774742399@musikverein-unterwaldhausen.de
SUMMARY:Palmsonntag Unterwaldhausen
DESCRIPTION:Vorabendmesse
URL:https://musikverein-unterwaldhausen.de/termine/palmsonntag-uwh-vorabendmesse-fahne/
END:VEVENT
END:VCALENDAR