BEGIN:VCALENDAR
VERSION:2.0
PRODID:-//Musikverein Unterwaldhausen - ECPv6.3.7//NONSGML v1.0//EN
CALSCALE:GREGORIAN
METHOD:PUBLISH
X-ORIGINAL-URL:https://musikverein-unterwaldhausen.de
X-WR-CALDESC:Veranstaltungen für Musikverein Unterwaldhausen
REFRESH-INTERVAL;VALUE=DURATION:PT1H
X-Robots-Tag:noindex
X-PUBLISHED-TTL:PT1H
BEGIN:VTIMEZONE
TZID:Europe/Berlin
BEGIN:DAYLIGHT
TZOFFSETFROM:+0100
TZOFFSETTO:+0200
TZNAME:CEST
DTSTART:20260329T010000
END:DAYLIGHT
BEGIN:STANDARD
TZOFFSETFROM:+0200
TZOFFSETTO:+0100
TZNAME:CET
DTSTART:20261025T010000
END:STANDARD
END:VTIMEZONE
BEGIN:VEVENT
DTSTART;VALUE=DATE:20260424
DTEND;VALUE=DATE:20260428
DTSTAMP:20260421T001623
CREATED:20251210T203803Z
LAST-MODIFIED:20251210T203803Z
UID:684-1776988800-1777334399@musikverein-unterwaldhausen.de
SUMMARY:Waldhauser Frühlingsfest
DESCRIPTION:
URL:https://musikverein-unterwaldhausen.de/termine/waldhauser-fruehlingsfest-4/
END:VEVENT
END:VCALENDAR