BEGIN:VCALENDAR
VERSION:2.0
PRODID:-//Musikverein Unterwaldhausen - ECPv6.3.7//NONSGML v1.0//EN
CALSCALE:GREGORIAN
METHOD:PUBLISH
X-WR-CALNAME:Musikverein Unterwaldhausen
X-ORIGINAL-URL:https://musikverein-unterwaldhausen.de
X-WR-CALDESC:Veranstaltungen für Musikverein Unterwaldhausen
REFRESH-INTERVAL;VALUE=DURATION:PT1H
X-Robots-Tag:noindex
X-PUBLISHED-TTL:PT1H
BEGIN:VTIMEZONE
TZID:Europe/Berlin
BEGIN:DAYLIGHT
TZOFFSETFROM:+0100
TZOFFSETTO:+0200
TZNAME:CEST
DTSTART:20260329T010000
END:DAYLIGHT
BEGIN:STANDARD
TZOFFSETFROM:+0200
TZOFFSETTO:+0100
TZNAME:CET
DTSTART:20261025T010000
END:STANDARD
END:VTIMEZONE
BEGIN:VEVENT
DTSTART;TZID=Europe/Berlin:20260601T170000
DTEND;TZID=Europe/Berlin:20260601T170000
DTSTAMP:20260421T014935
CREATED:20251210T203805Z
LAST-MODIFIED:20251210T203805Z
UID:686-1780333200-1780333200@musikverein-unterwaldhausen.de
SUMMARY:Feierabendhock Berg/Friedrichshafen
DESCRIPTION:
URL:https://musikverein-unterwaldhausen.de/termine/feierabendhock-berg-friedrichshafen-2/
END:VEVENT
BEGIN:VEVENT
DTSTART;VALUE=DATE:20260611
DTEND;VALUE=DATE:20260612
DTSTAMP:20260421T014935
CREATED:20251210T203806Z
LAST-MODIFIED:20251210T203806Z
UID:687-1781136000-1781222399@musikverein-unterwaldhausen.de
SUMMARY:Offene Musikprobe Riedhausen
DESCRIPTION:
URL:https://musikverein-unterwaldhausen.de/termine/offene-musikprobe-riedhausen-3/
END:VEVENT
BEGIN:VEVENT
DTSTART;VALUE=DATE:20260613
DTEND;VALUE=DATE:20260614
DTSTAMP:20260421T014935
CREATED:20251210T203806Z
LAST-MODIFIED:20251210T204004Z
UID:688-1781308800-1781395199@musikverein-unterwaldhausen.de
SUMMARY:Hochzeit
DESCRIPTION:
URL:https://musikverein-unterwaldhausen.de/termine/hochzeit-marion-und-felix/
END:VEVENT
BEGIN:VEVENT
DTSTART;TZID=Europe/Berlin:20260614T150000
DTEND;TZID=Europe/Berlin:20260614T150000
DTSTAMP:20260421T014935
CREATED:20251210T203806Z
LAST-MODIFIED:20251210T203806Z
UID:689-1781449200-1781449200@musikverein-unterwaldhausen.de
SUMMARY:Fest 800 Jahre Dorfjubiläum Denkinger Festzug
DESCRIPTION:
URL:https://musikverein-unterwaldhausen.de/termine/fest-800-jahre-dorfjubilaeum-denkinger-festzug-2/
END:VEVENT
END:VCALENDAR